BEGIN:VCALENDAR
VERSION:2.0
PRODID:-//Plone.org//NONSGML plone.app.event//EN
X-WR-TIMEZONE:Europe/Madrid
BEGIN:VEVENT
SUMMARY:Concurs de dibuix infantil
DTSTART;TZID=Europe/Madrid;VALUE=DATE-TIME:20121124T170000
DTEND;TZID=Europe/Madrid;VALUE=DATE-TIME:20121124T180000
DTSTAMP;VALUE=DATE-TIME:20260419T135941Z
UID:2c11b7ba0de1b796b578b28084d1da6e
CREATED;VALUE=DATE-TIME:20121124T000000Z
LOCATION:Passeig de la Mare de Déu de Montserrat, a l'estand de l'Ajuntament
COMMENT:Durada: Fins a les 20.00 h
DESCRIPTION:"El món dels bolets"
URL:https://ajllavaneres.cat/document.php?id=6091
END:VEVENT
END:VCALENDAR