BEGIN:VCALENDAR
VERSION:2.0
PRODID:-//Plone.org//NONSGML plone.app.event//EN
X-WR-TIMEZONE:Europe/Madrid
BEGIN:VEVENT
SUMMARY:Lliurament dels diners recaptats per Llavaneres Contra el Càncer
DTSTART;TZID=Europe/Madrid;VALUE=DATE-TIME:20121116T190000
DTEND;TZID=Europe/Madrid;VALUE=DATE-TIME:20121116T200000
DTSTAMP;VALUE=DATE-TIME:20260419T235347Z
UID:15ba5b27c71d726325ba87c679ad157d
CREATED;VALUE=DATE-TIME:20121116T000000Z
LOCATION:Sala de plens de l'Ajuntament
ORGANIZER:Llavaneres contra el Càncer
COMMENT:Preu: Entrada lliure
DESCRIPTION:A Sant Joan de Déu, Germans Trias i Pujol (Can Ruti) i a l´Hospital de Mataró
URL:https://ajllavaneres.cat/document.php?id=6230
END:VEVENT
END:VCALENDAR