BEGIN:VCALENDAR
VERSION:2.0
PRODID:-//Plone.org//NONSGML plone.app.event//EN
X-WR-TIMEZONE:Europe/Madrid
BEGIN:VEVENT
SUMMARY:Inici del taller de francès
DTSTART;TZID=Europe/Madrid;VALUE=DATE-TIME:20121121T180000
DTEND;TZID=Europe/Madrid;VALUE=DATE-TIME:20121121T190000
DTSTAMP;VALUE=DATE-TIME:20260419T172658Z
UID:1c83eeb8660bb6cc1052640455a40898
CREATED;VALUE=DATE-TIME:20121121T000000Z
CATEGORIES:Cursos
LOCATION:Seu de la "Dona per la Dona" a Can Caralt
ORGANIZER:Associació "La dona per la dona"
COMMENT:Preu: A consultar
Durada: Fins el 30 de juny de 2013
DESCRIPTION:Nivell inicial, mig, alt, i conversa
URL:https://ajllavaneres.cat/document.php?id=6245
END:VEVENT
END:VCALENDAR