BEGIN:VCALENDAR
VERSION:2.0
PRODID:-//Plone.org//NONSGML plone.app.event//EN
X-WR-TIMEZONE:Europe/Madrid
BEGIN:VEVENT
SUMMARY:"De pedres i bèsties"
DTSTART;TZID=Europe/Madrid;VALUE=DATE-TIME:20130315T193000
DTEND;TZID=Europe/Madrid;VALUE=DATE-TIME:20130315T203000
DTSTAMP;VALUE=DATE-TIME:20260420T075121Z
UID:e08330ec15ba2758a56c745c4a117b8a
CREATED;VALUE=DATE-TIME:20130315T000000Z
CATEGORIES:Exposició
LOCATION:Museu-Arxiu de Llavaneres. Can Caralt
ORGANIZER:Museu Arxiu de Sant Andreu de Llavaneres
COMMENT:Preu: Gratuït
Durada: Fins al 14 d'abril
DESCRIPTION:Pintures de Pere Màrtir Brasó
URL:https://ajllavaneres.cat/document.php?id=6356
END:VEVENT
END:VCALENDAR