BEGIN:VCALENDAR
VERSION:2.0
PRODID:-//Plone.org//NONSGML plone.app.event//EN
X-WR-TIMEZONE:Europe/Madrid
BEGIN:VEVENT
SUMMARY:IV Concurs de coreografies Ball Country
DTSTART;TZID=Europe/Madrid;VALUE=DATE-TIME:20130223T200000
DTEND;TZID=Europe/Madrid;VALUE=DATE-TIME:20130223T210000
DTSTAMP;VALUE=DATE-TIME:20260420T061804Z
UID:89854e5b1e42ad824d97a7fd38e63826
CREATED;VALUE=DATE-TIME:20130223T000000Z
CATEGORIES:Festa,Música
LOCATION:El Casal de Llavaneres (Sala Polivalent)
ORGANIZER:El Cor Country del Maresme i El Casal de Llavaneres
COMMENT:Preu: 7&euro; amb consumició inclosa
URL:https://ajllavaneres.cat/document.php?id=6426
END:VEVENT
END:VCALENDAR