BEGIN:VCALENDAR
VERSION:2.0
PRODID:-//Plone.org//NONSGML plone.app.event//EN
X-WR-TIMEZONE:Europe/Madrid
BEGIN:VEVENT
SUMMARY:Jornada de portes obertes a l'Escola Sant Andreu
DTSTART;TZID=Europe/Madrid;VALUE=DATE-TIME:20130307T153000
DTEND;TZID=Europe/Madrid;VALUE=DATE-TIME:20130307T163000
DTSTAMP;VALUE=DATE-TIME:20260420T121825Z
UID:4e339f349073b7bf7af7abfe885fa0af
CREATED;VALUE=DATE-TIME:20130307T000000Z
LOCATION:Carrer Contrabandistes s/n
ORGANIZER:Escola Sant Andreu
COMMENT:Durada: Fins a les 19 hores
DESCRIPTION:La preinscripció per al curs 2013-2014 es farà de l'11 al 22 de març
URL:https://ajllavaneres.cat/document.php?id=6510
END:VEVENT
END:VCALENDAR