BEGIN:VCALENDAR
VERSION:2.0
PRODID:-//Plone.org//NONSGML plone.app.event//EN
X-WR-TIMEZONE:Europe/Madrid
BEGIN:VEVENT
SUMMARY:11a Marxa BTT de muntanya
DTSTART;TZID=Europe/Madrid;VALUE=DATE-TIME:20130407T090000
DTEND;TZID=Europe/Madrid;VALUE=DATE-TIME:20130407T100000
DTSTAMP;VALUE=DATE-TIME:20260419T234637Z
UID:0874d4b6ec59200520a9722ff1fd10a7
CREATED;VALUE=DATE-TIME:20130407T000000Z
CATEGORIES:Esports
LOCATION:El Casal de Llavaneres
ORGANIZER:Secció Esportiva d'El Casal de Llavaneres
COMMENT:Preu: Federats: 14 &euro;; no federats: 18 &euro;. El mateix dia, 2 &euro; més.
DESCRIPTION:Sortida i arribada a El Casal
URL:https://ajllavaneres.cat/document.php?id=6531
END:VEVENT
END:VCALENDAR