BEGIN:VCALENDAR
VERSION:2.0
PRODID:-//Plone.org//NONSGML plone.app.event//EN
X-WR-TIMEZONE:Europe/Madrid
BEGIN:VEVENT
SUMMARY:XVIII Mostra de Pans i Ofrena floral a la Mare de Déu
DTSTART;TZID=Europe/Madrid;VALUE=DATE-TIME:20130522T101500
DTEND;TZID=Europe/Madrid;VALUE=DATE-TIME:20130522T111500
DTSTAMP;VALUE=DATE-TIME:20260419T171754Z
UID:c21c86d4f2349b94767af0491013402b
CREATED;VALUE=DATE-TIME:20130522T000000Z
CATEGORIES:Festa
LOCATION:C/ de Munt
ORGANIZER:Associació La Dona per la Dona
COMMENT:Preu: Gratuït
DESCRIPTION:Celebració de la Diada de la Mare de Déu de Montserrat (ajornada a causa de la pluja del 27 d'abril)
URL:https://ajllavaneres.cat/document.php?id=6667
END:VEVENT
END:VCALENDAR