BEGIN:VCALENDAR
VERSION:2.0
PRODID:-//Plone.org//NONSGML plone.app.event//EN
X-WR-TIMEZONE:Europe/Madrid
BEGIN:VEVENT
SUMMARY:2a Fase d'Interclubs de Patinatge 2013
DTSTART;TZID=Europe/Madrid;VALUE=DATE-TIME:20130504T090000
DTEND;TZID=Europe/Madrid;VALUE=DATE-TIME:20130504T100000
DTSTAMP;VALUE=DATE-TIME:20260419T141827Z
UID:16cd9841e0e699383763c1f8918141b7
CREATED;VALUE=DATE-TIME:20130504T000000Z
CATEGORIES:Esports
LOCATION:Pavelló d'Horta-Barcelona
ORGANIZER:CPA Sant Andreu de Llavaneres
DESCRIPTION:Paticipació de patinadores del CPA Sant Andreu de Llavaneres
URL:https://ajllavaneres.cat/document.php?id=6706
END:VEVENT
END:VCALENDAR