BEGIN:VCALENDAR
VERSION:2.0
PRODID:-//Plone.org//NONSGML plone.app.event//EN
X-WR-TIMEZONE:Europe/Madrid
BEGIN:VEVENT
SUMMARY:La Marxeta d'El Casal
DTSTART;TZID=Europe/Madrid;VALUE=DATE-TIME:20130616T083000
DTEND;TZID=Europe/Madrid;VALUE=DATE-TIME:20130616T093000
DTSTAMP;VALUE=DATE-TIME:20260420T083336Z
UID:fb81511223d59d6589d04f9f6dbd75ba
CREATED;VALUE=DATE-TIME:20130616T000000Z
LOCATION:El Casal de Llavaneres (sortida i arribada a El Casal)
ORGANIZER:Secció esportiva d'El Casal de Llavaneres
DESCRIPTION:Visita a la torre de Mata (Can Tria), agrobotiga i conreus de la masia
URL:https://ajllavaneres.cat/document.php?id=6796
END:VEVENT
END:VCALENDAR