BEGIN:VCALENDAR
VERSION:2.0
PRODID:-//Plone.org//NONSGML plone.app.event//EN
X-WR-TIMEZONE:Europe/Madrid
BEGIN:VEVENT
SUMMARY:Festa de Final de Curs del Club de Patinatge
DTSTART;TZID=Europe/Madrid;VALUE=DATE-TIME:20130609T110000
DTEND;TZID=Europe/Madrid;VALUE=DATE-TIME:20130609T120000
DTSTAMP;VALUE=DATE-TIME:20260420T025958Z
UID:7f03e07824612aebd3aa0403c770c803
CREATED;VALUE=DATE-TIME:20130609T000000Z
CATEGORIES:Esports
LOCATION:Pavelló municipal de Caldes d'Estrac
ORGANIZER:CPA Sant Andreu de Llavaneres i CPA Caldes d'Estrac
DESCRIPTION:Festa grossa amb la participació de patinadores del club, música i balls, exhibicions i espectacle
URL:https://ajllavaneres.cat/document.php?id=6815
END:VEVENT
END:VCALENDAR