BEGIN:VCALENDAR
VERSION:2.0
PRODID:-//Plone.org//NONSGML plone.app.event//EN
X-WR-TIMEZONE:Europe/Madrid
BEGIN:VEVENT
SUMMARY:Mulla't per l'esclerosi múltiple
DTSTART;TZID=Europe/Madrid;VALUE=DATE-TIME:20130714T110000
DTEND;TZID=Europe/Madrid;VALUE=DATE-TIME:20130714T120000
DTSTAMP;VALUE=DATE-TIME:20260419T165545Z
UID:4eed3f6786098836c112b29f3cb71dbc
CREATED;VALUE=DATE-TIME:20130714T000000Z
LOCATION:Piscina municipal
ORGANIZER:Regidoria de Sanitat
DESCRIPTION:Jornada de natació solidària amb les persones afectades per aquesta malaltia
URL:https://ajllavaneres.cat/document.php?id=6821
END:VEVENT
END:VCALENDAR