BEGIN:VCALENDAR
VERSION:2.0
PRODID:-//Plone.org//NONSGML plone.app.event//EN
X-WR-TIMEZONE:Europe/Madrid
BEGIN:VEVENT
SUMMARY:Xerrada: "Aconsegueix les claus de l'èxit professional"
DTSTART;TZID=Europe/Madrid;VALUE=DATE-TIME:20131023T100000
DTEND;TZID=Europe/Madrid;VALUE=DATE-TIME:20131023T110000
DTSTAMP;VALUE=DATE-TIME:20260420T042740Z
UID:aff6e9911caf392a852f59d04553488d
CREATED;VALUE=DATE-TIME:20131023T000000Z
CATEGORIES:Conferència
LOCATION:Biblioteca de Sant Andreu de Llavaneres
ORGANIZER:Ajuntaments de Sant Andreu de Llavaneres i de Sant Vicenç de Montalt
COMMENT:Preu: Entrada lliure/ Cal inscripció prèvia
URL:https://ajllavaneres.cat/document.php?id=6967
END:VEVENT
END:VCALENDAR