BEGIN:VCALENDAR
VERSION:2.0
PRODID:-//Plone.org//NONSGML plone.app.event//EN
X-WR-TIMEZONE:Europe/Madrid
BEGIN:VEVENT
SUMMARY:Instruments desvetllats
DTSTART;TZID=Europe/Madrid;VALUE=DATE-TIME:20070417T000000
DTEND;TZID=Europe/Madrid;VALUE=DATE-TIME:20070417T010000
DTSTAMP;VALUE=DATE-TIME:20260423T003612Z
UID:d9066b5e7a31c4cf3b0b5246d17f11cd
CREATED;VALUE=DATE-TIME:20070417T000000Z
CATEGORIES:Música
LOCATION:Biblioteca municipal
ORGANIZER:Biblioteca municipal i Escola de Música
URL:https://ajllavaneres.cat/document.php?id=7
END:VEVENT
END:VCALENDAR