BEGIN:VCALENDAR
VERSION:2.0
PRODID:-//Plone.org//NONSGML plone.app.event//EN
X-WR-TIMEZONE:Europe/Madrid
BEGIN:VEVENT
SUMMARY:Xerrada: "El viatge de primària a secundària"
DTSTART;TZID=Europe/Madrid;VALUE=DATE-TIME:20140220T193000
DTEND;TZID=Europe/Madrid;VALUE=DATE-TIME:20140220T203000
DTSTAMP;VALUE=DATE-TIME:20260423T061701Z
UID:aa13d2fd4b99a54e5da25399d08f0981
CREATED;VALUE=DATE-TIME:20140220T000000Z
CATEGORIES:Conferència
LOCATION:Sala de plens de l´Ajuntament
ORGANIZER:Regidoria d'Ensenyament
DESCRIPTION:A càrrec de l'Associació Educativa i Formativa TBCLASS
URL:https://ajllavaneres.cat/document.php?id=7090
END:VEVENT
END:VCALENDAR