BEGIN:VCALENDAR
VERSION:2.0
PRODID:-//Plone.org//NONSGML plone.app.event//EN
X-WR-TIMEZONE:Europe/Madrid
BEGIN:VEVENT
SUMMARY:15a Fira de Tardor
DTSTART;TZID=Europe/Madrid;VALUE=DATE-TIME:20131123T110000
DTEND;TZID=Europe/Madrid;VALUE=DATE-TIME:20131123T120000
DTSTAMP;VALUE=DATE-TIME:20260419T171919Z
UID:cab2fd763d08dc23d0b187d029443397
CREATED;VALUE=DATE-TIME:20131123T000000Z
CATEGORIES:Festa
LOCATION:Passeig de la Mare de Déu de Montserrat
ORGANIZER:Regidoria de Promoció Economica, Comerç i Turisme
COMMENT:Durada: Fins diumenge 24 de novembre
DESCRIPTION:Fira d'artesania, alimentació i mostra de comerç local
URL:https://ajllavaneres.cat/document.php?id=7122
END:VEVENT
END:VCALENDAR