BEGIN:VCALENDAR
VERSION:2.0
PRODID:-//Plone.org//NONSGML plone.app.event//EN
X-WR-TIMEZONE:Europe/Madrid
BEGIN:VEVENT
SUMMARY:Audició d'alumnes
DTSTART;TZID=Europe/Madrid;VALUE=DATE-TIME:20140127T193000
DTEND;TZID=Europe/Madrid;VALUE=DATE-TIME:20140127T203000
DTSTAMP;VALUE=DATE-TIME:20260422T231605Z
UID:530b994d2b353a5c5dd234724110099a
CREATED;VALUE=DATE-TIME:20140127T000000Z
LOCATION:Escola de Música. Can Caralt
ORGANIZER:Escola Municipal de Música de Llavaneres
URL:https://ajllavaneres.cat/document.php?id=7217
END:VEVENT
END:VCALENDAR