BEGIN:VCALENDAR
VERSION:2.0
PRODID:-//Plone.org//NONSGML plone.app.event//EN
X-WR-TIMEZONE:Europe/Madrid
BEGIN:VEVENT
SUMMARY:A peu pels cingles d'Aiats i Cabrera (Osona)
DTSTART;TZID=Europe/Madrid;VALUE=DATE-TIME:20140109T070000
DTEND;TZID=Europe/Madrid;VALUE=DATE-TIME:20140109T080000
DTSTAMP;VALUE=DATE-TIME:20260423T024459Z
UID:7192d5ecdd3ba3a5f404e1bb12db9465
CREATED;VALUE=DATE-TIME:20140109T000000Z
CATEGORIES:Esports
LOCATION:El Casal de Llavaneres (sortida)
ORGANIZER:Secció Sènior d'El Casal de Llavaneres
URL:https://ajllavaneres.cat/document.php?id=7340
END:VEVENT
END:VCALENDAR