BEGIN:VCALENDAR
VERSION:2.0
PRODID:-//Plone.org//NONSGML plone.app.event//EN
X-WR-TIMEZONE:Europe/Madrid
BEGIN:VEVENT
SUMMARY:Sortida de gegants a Sant Antoni de Vilamajor
DTSTART;TZID=Europe/Madrid;VALUE=DATE-TIME:20140107T094200
DTEND;TZID=Europe/Madrid;VALUE=DATE-TIME:20140107T104200
DTSTAMP;VALUE=DATE-TIME:20260423T035945Z
UID:b41c008cf33d4f2e2147911d1514b775
CREATED;VALUE=DATE-TIME:20140107T000000Z
ORGANIZER:Secció de Tradicions i Festes catalanes d'El Casal de Llavaneres
URL:https://ajllavaneres.cat/document.php?id=7342
END:VEVENT
END:VCALENDAR