BEGIN:VCALENDAR
VERSION:2.0
PRODID:-//Plone.org//NONSGML plone.app.event//EN
X-WR-TIMEZONE:Europe/Madrid
BEGIN:VEVENT
SUMMARY:Sortida en BTT pels pobles de la Selva
DTSTART;TZID=Europe/Madrid;VALUE=DATE-TIME:20140123T070000
DTEND;TZID=Europe/Madrid;VALUE=DATE-TIME:20140123T080000
DTSTAMP;VALUE=DATE-TIME:20260423T042119Z
UID:493df65b3649a4bcd3054ba44eda1544
CREATED;VALUE=DATE-TIME:20140123T000000Z
LOCATION:El Casal de Llavaneres (sortida)
ORGANIZER:Secciò Sènior d'El Casal de Llavaneres
URL:https://ajllavaneres.cat/document.php?id=7343
END:VEVENT
END:VCALENDAR