BEGIN:VCALENDAR
VERSION:2.0
PRODID:-//Plone.org//NONSGML plone.app.event//EN
X-WR-TIMEZONE:Europe/Madrid
BEGIN:VEVENT
SUMMARY:Travessa per la serra del Montsant (El Priorat)
DTSTART;TZID=Europe/Madrid;VALUE=DATE-TIME:20140125T060000
DTEND;TZID=Europe/Madrid;VALUE=DATE-TIME:20140125T070000
DTSTAMP;VALUE=DATE-TIME:20260422T231409Z
UID:f20d0d2632db863f12be23a90d8b042c
CREATED;VALUE=DATE-TIME:20140125T000000Z
LOCATION:Passeig de la Mare de Déu de Montserrat (davant del CAP), sortida
ORGANIZER:Grup &OpenCurlyDoubleQuote;Oju Peligru&CloseCurlyDoubleQuote; i Secció Esportiva del Casal
URL:https://ajllavaneres.cat/document.php?id=7344
END:VEVENT
END:VCALENDAR