BEGIN:VCALENDAR
VERSION:2.0
PRODID:-//Plone.org//NONSGML plone.app.event//EN
X-WR-TIMEZONE:Europe/Madrid
BEGIN:VEVENT
SUMMARY:Exposició: "Collarets ètnics"
DTSTART;TZID=Europe/Madrid;VALUE=DATE-TIME:20140308T110000
DTEND;TZID=Europe/Madrid;VALUE=DATE-TIME:20140308T120000
DTSTAMP;VALUE=DATE-TIME:20260422T144358Z
UID:99ca374b90370a873e859f80dcbff85e
CREATED;VALUE=DATE-TIME:20140308T000000Z
CATEGORIES:Exposició
LOCATION:Sala polivalent de Ca l'Alfaro
COMMENT:Preu: Entrada lliure/ Obert a tothom
Durada: Dissabte 8, d'11 a 14 i de 17 a 20 hores, i diumenge 9, d'11 a 14 h
DESCRIPTION:De Susana Gil Micó
URL:https://ajllavaneres.cat/document.php?id=7362
END:VEVENT
END:VCALENDAR