BEGIN:VCALENDAR
VERSION:2.0
PRODID:-//Plone.org//NONSGML plone.app.event//EN
X-WR-TIMEZONE:Europe/Madrid
BEGIN:VEVENT
SUMMARY:Carnaval 2014: rua i ball de disfresses
DTSTART;TZID=Europe/Madrid;VALUE=DATE-TIME:20140302T173000
DTEND;TZID=Europe/Madrid;VALUE=DATE-TIME:20140302T183000
DTSTAMP;VALUE=DATE-TIME:20260422T230311Z
UID:6b96fafb1c70ae13f0de32d88c43c60d
CREATED;VALUE=DATE-TIME:20140302T000000Z
CATEGORIES:Festa
LOCATION:Carrers de Llavaneres i sala polivalent d'El Casal de Llavaneres
ORGANIZER:La Xarxa d'Espectacle Infantil i Juvenil i El Casal de Llavaneres. Amb el patrocini de l'Ajuntament
DESCRIPTION:La companyia Xip Xap presentarà l'espectacle "Que peti la plaça"
URL:https://ajllavaneres.cat/document.php?id=7363
END:VEVENT
END:VCALENDAR