BEGIN:VCALENDAR
VERSION:2.0
PRODID:-//Plone.org//NONSGML plone.app.event//EN
X-WR-TIMEZONE:Europe/Madrid
BEGIN:VEVENT
SUMMARY:Exposició: "Catàleg de mirades"
DTSTART;TZID=Europe/Madrid;VALUE=DATE-TIME:20140307T193000
DTEND;TZID=Europe/Madrid;VALUE=DATE-TIME:20140307T203000
DTSTAMP;VALUE=DATE-TIME:20260420T065314Z
UID:a6e5080b1c15638d4554b406ebbc9897
CREATED;VALUE=DATE-TIME:20140307T000000Z
LOCATION:Can Caralt
ORGANIZER:Museu-Arxiu de Sant Andreu de Llavaneres
COMMENT:Durada: Fins el 21 d'abril
DESCRIPTION:Pintura, escultura i dibuix de Mariano Cabellos
URL:https://ajllavaneres.cat/document.php?id=7364
END:VEVENT
END:VCALENDAR