BEGIN:VCALENDAR
VERSION:2.0
PRODID:-//Plone.org//NONSGML plone.app.event//EN
X-WR-TIMEZONE:Europe/Madrid
BEGIN:VEVENT
SUMMARY:Calçotada popular
DTSTART;TZID=Europe/Madrid;VALUE=DATE-TIME:20140216T140000
DTEND;TZID=Europe/Madrid;VALUE=DATE-TIME:20140216T150000
DTSTAMP;VALUE=DATE-TIME:20260422T225841Z
UID:786b83a8a22a814a99730d8387ac167f
CREATED;VALUE=DATE-TIME:20140216T000000Z
CATEGORIES:Festa
LOCATION:El Casal de Llavaneres
ORGANIZER:Secció de Tradicions i Festes catalanes d'El Casal de Llavaneres
DESCRIPTION:A El Casal de Llavaneres
URL:https://ajllavaneres.cat/document.php?id=7366
END:VEVENT
END:VCALENDAR