BEGIN:VCALENDAR
VERSION:2.0
PRODID:-//Plone.org//NONSGML plone.app.event//EN
X-WR-TIMEZONE:Europe/Madrid
BEGIN:VEVENT
SUMMARY:XII Marxa BTT de muntanya Llava Rocks
DTSTART;TZID=Europe/Madrid;VALUE=DATE-TIME:20140316T090000
DTEND;TZID=Europe/Madrid;VALUE=DATE-TIME:20140316T100000
DTSTAMP;VALUE=DATE-TIME:20260422T143333Z
UID:981ea271d69505631376cbd7bbb3e9ad
CREATED;VALUE=DATE-TIME:20140316T000000Z
CATEGORIES:Esports
LOCATION:El Casal de Llavaneres
ORGANIZER:Secció esportiva d'El Casal de Llavaneres
DESCRIPTION:A El Casal de Llavaneres
URL:https://ajllavaneres.cat/document.php?id=7369
END:VEVENT
END:VCALENDAR