BEGIN:VCALENDAR
VERSION:2.0
PRODID:-//Plone.org//NONSGML plone.app.event//EN
X-WR-TIMEZONE:Europe/Madrid
BEGIN:VEVENT
SUMMARY:Benedicció d'animals
DTSTART;TZID=Europe/Madrid;VALUE=DATE-TIME:20140202T123000
DTEND;TZID=Europe/Madrid;VALUE=DATE-TIME:20140202T133000
DTSTAMP;VALUE=DATE-TIME:20260424T102012Z
UID:7eb510cf3400fa9f8bde6b0d9dbd99b4
CREATED;VALUE=DATE-TIME:20140202T000000Z
LOCATION:Escales de l'església parroquial de Sant Andreu
ORGANIZER:Parròquia de Sant Andreu
DESCRIPTION:Sant Antoni Abad
URL:https://ajllavaneres.cat/document.php?id=7377
END:VEVENT
END:VCALENDAR