BEGIN:VCALENDAR
VERSION:2.0
PRODID:-//Plone.org//NONSGML plone.app.event//EN
X-WR-TIMEZONE:Europe/Madrid
BEGIN:VEVENT
SUMMARY:Conferència-col·loqui: "La família"
DTSTART;TZID=Europe/Madrid;VALUE=DATE-TIME:20140221T200000
DTEND;TZID=Europe/Madrid;VALUE=DATE-TIME:20140221T210000
DTSTAMP;VALUE=DATE-TIME:20260423T075209Z
UID:8c35b7b3d3a1854bf27ff693f1c1a061
CREATED;VALUE=DATE-TIME:20140221T000000Z
LOCATION:Sala parroquial de l'església de Sant Andreu
ORGANIZER:Parròquia de Sant Andreu
COMMENT:Preu: Entrada lliure
DESCRIPTION:A càrrec del pare Gaspar Borda
URL:https://ajllavaneres.cat/document.php?id=7381
END:VEVENT
END:VCALENDAR