BEGIN:VCALENDAR
VERSION:2.0
PRODID:-//Plone.org//NONSGML plone.app.event//EN
X-WR-TIMEZONE:Europe/Madrid
BEGIN:VEVENT
SUMMARY:Campanya de donació de sang
DTSTART;TZID=Europe/Madrid;VALUE=DATE-TIME:20140223T100000
DTEND;TZID=Europe/Madrid;VALUE=DATE-TIME:20140223T110000
DTSTAMP;VALUE=DATE-TIME:20260423T122545Z
UID:ea31b627d09d4ecf68b159e77fb7d4f1
CREATED;VALUE=DATE-TIME:20140223T000000Z
LOCATION:Sala polivalent de Ca l'Alfaro
ORGANIZER:Banc de Sang i Teixits. Departament de Salut. Generalitat de Catalunya
COMMENT:Durada: Fins a les 14.00 h
URL:https://ajllavaneres.cat/document.php?id=7387
END:VEVENT
END:VCALENDAR