BEGIN:VCALENDAR
VERSION:2.0
PRODID:-//Plone.org//NONSGML plone.app.event//EN
X-WR-TIMEZONE:Europe/Madrid
BEGIN:VEVENT
SUMMARY:Tallers de manualitats
DTSTART;TZID=Europe/Madrid;VALUE=DATE-TIME:20140204T093000
DTEND;TZID=Europe/Madrid;VALUE=DATE-TIME:20140204T103000
DTSTAMP;VALUE=DATE-TIME:20260422T230128Z
UID:3433711ea87d71459b844f0e156d1753
CREATED;VALUE=DATE-TIME:20140204T000000Z
CATEGORIES:Cursos
LOCATION:Can Caralt. Seu de La Dona per la Dona
ORGANIZER:Associació La Dona per la Dona
COMMENT:Preu: 10&euro; per sessió de 2 hores
Durada: Fins el mes de juny
DESCRIPTION:Inici dels tallers de Scrap, Decoupage, Stencil i molts més
URL:https://ajllavaneres.cat/document.php?id=7389
END:VEVENT
END:VCALENDAR