BEGIN:VCALENDAR
VERSION:2.0
PRODID:-//Plone.org//NONSGML plone.app.event//EN
X-WR-TIMEZONE:Europe/Madrid
BEGIN:VEVENT
SUMMARY:Sortida al massís del Montgrí
DTSTART;TZID=Europe/Madrid;VALUE=DATE-TIME:20140206T073000
DTEND;TZID=Europe/Madrid;VALUE=DATE-TIME:20140206T083000
DTSTAMP;VALUE=DATE-TIME:20260423T055917Z
UID:d71536dafba4b011ad3a6a69014b64f1
CREATED;VALUE=DATE-TIME:20140206T000000Z
CATEGORIES:Esports
LOCATION:El Casal de Llavaneres
ORGANIZER:Secció Sènior d'El Casal de Llavaneres
URL:https://ajllavaneres.cat/document.php?id=7390
END:VEVENT
END:VCALENDAR