BEGIN:VCALENDAR
VERSION:2.0
PRODID:-//Plone.org//NONSGML plone.app.event//EN
X-WR-TIMEZONE:Europe/Madrid
BEGIN:VEVENT
SUMMARY:La Marxeta d'El Casal
DTSTART;TZID=Europe/Madrid;VALUE=DATE-TIME:20140209T083000
DTEND;TZID=Europe/Madrid;VALUE=DATE-TIME:20140209T093000
DTSTAMP;VALUE=DATE-TIME:20260423T042247Z
UID:048606b8e51825c58e5a0e2102a748d5
CREATED;VALUE=DATE-TIME:20140209T000000Z
CATEGORIES:Esports
LOCATION:El Casal de Llavaneres
ORGANIZER:Secció esportiva d'El Casal de Llavaneres
URL:https://ajllavaneres.cat/document.php?id=7391
END:VEVENT
END:VCALENDAR