BEGIN:VCALENDAR
VERSION:2.0
PRODID:-//Plone.org//NONSGML plone.app.event//EN
X-WR-TIMEZONE:Europe/Madrid
BEGIN:VEVENT
SUMMARY:Vine a conèixer el Lluçanès
DTSTART;TZID=Europe/Madrid;VALUE=DATE-TIME:20140213T070000
DTEND;TZID=Europe/Madrid;VALUE=DATE-TIME:20140213T080000
DTSTAMP;VALUE=DATE-TIME:20260423T042104Z
UID:e1d56a249a59527c9ee5f944ed694900
CREATED;VALUE=DATE-TIME:20140213T000000Z
CATEGORIES:Esports
LOCATION:El Casal de Llavaneres
ORGANIZER:Secció Sènior d'El Casal de Llavaneres
URL:https://ajllavaneres.cat/document.php?id=7392
END:VEVENT
END:VCALENDAR