BEGIN:VCALENDAR
VERSION:2.0
PRODID:-//Plone.org//NONSGML plone.app.event//EN
X-WR-TIMEZONE:Europe/Madrid
BEGIN:VEVENT
SUMMARY:Òpera a El Casal
DTSTART;TZID=Europe/Madrid;VALUE=DATE-TIME:20140215T180000
DTEND;TZID=Europe/Madrid;VALUE=DATE-TIME:20140215T190000
DTSTAMP;VALUE=DATE-TIME:20260423T023922Z
UID:29d1d24230e6775630baaa2640a46b4c
CREATED;VALUE=DATE-TIME:20140215T000000Z
CATEGORIES:Música
LOCATION:El Casal de Llavaneres (Sala de lectura)
ORGANIZER:Secció de Cultura d'El Casal de Llavaneres
COMMENT:Preu: Col·laboració: 3 euros
URL:https://ajllavaneres.cat/document.php?id=7393
END:VEVENT
END:VCALENDAR