BEGIN:VCALENDAR
VERSION:2.0
PRODID:-//Plone.org//NONSGML plone.app.event//EN
X-WR-TIMEZONE:Europe/Madrid
BEGIN:VEVENT
SUMMARY:Ruta del ferro amb BTT
DTSTART;TZID=Europe/Madrid;VALUE=DATE-TIME:20140220T073000
DTEND;TZID=Europe/Madrid;VALUE=DATE-TIME:20140220T083000
DTSTAMP;VALUE=DATE-TIME:20260422T225825Z
UID:a71dd9570214399ea8c2c4930d266601
CREATED;VALUE=DATE-TIME:20140220T000000Z
CATEGORIES:Esports
LOCATION:El Casal de Llavaneres
ORGANIZER:Secció Sènior d'El Casal de Llavaneres
URL:https://ajllavaneres.cat/document.php?id=7394
END:VEVENT
END:VCALENDAR