BEGIN:VCALENDAR
VERSION:2.0
PRODID:-//Plone.org//NONSGML plone.app.event//EN
X-WR-TIMEZONE:Europe/Madrid
BEGIN:VEVENT
SUMMARY:Sortida a Granera, Vallès Occidental
DTSTART;TZID=Europe/Madrid;VALUE=DATE-TIME:20140227T073000
DTEND;TZID=Europe/Madrid;VALUE=DATE-TIME:20140227T083000
DTSTAMP;VALUE=DATE-TIME:20260423T035915Z
UID:6b12519ba812eefb247fa9cb18c82bfc
CREATED;VALUE=DATE-TIME:20140227T000000Z
CATEGORIES:Esports
LOCATION:El Casal de Llavaneres
ORGANIZER:Secció Sènior d'El Casal de Llavaneres
URL:https://ajllavaneres.cat/document.php?id=7396
END:VEVENT
END:VCALENDAR