BEGIN:VCALENDAR
VERSION:2.0
PRODID:-//Plone.org//NONSGML plone.app.event//EN
X-WR-TIMEZONE:Europe/Madrid
BEGIN:VEVENT
SUMMARY:Grup de conversa en francès
DTSTART;TZID=Europe/Madrid;VALUE=DATE-TIME:20140305T190000
DTEND;TZID=Europe/Madrid;VALUE=DATE-TIME:20140305T200000
DTSTAMP;VALUE=DATE-TIME:20260422T174459Z
UID:89079b7d122a294ecbb0071957de0bdd
CREATED;VALUE=DATE-TIME:20140305T000000Z
CATEGORIES:Cursos
LOCATION:Sala d'actes de la Biblioteca Municipal
ORGANIZER:Biblioteca Municipal; Regidoria de Cultura
COMMENT:Preu: A determinar
Durada: Tots els dimecres de cada setmana
URL:https://ajllavaneres.cat/document.php?id=7456
END:VEVENT
END:VCALENDAR