BEGIN:VCALENDAR
VERSION:2.0
PRODID:-//Plone.org//NONSGML plone.app.event//EN
X-WR-TIMEZONE:Europe/Madrid
BEGIN:VEVENT
SUMMARY:Club del còmic per a adults i joves
DTSTART;TZID=Europe/Madrid;VALUE=DATE-TIME:20140315T120000
DTEND;TZID=Europe/Madrid;VALUE=DATE-TIME:20140315T130000
DTSTAMP;VALUE=DATE-TIME:20260422T230242Z
UID:77091ef5eb11d10b3758b4fe60bdc704
CREATED;VALUE=DATE-TIME:20140315T000000Z
CATEGORIES:Cursos
LOCATION:Sala d'actes de la Biblioteca Municipal
ORGANIZER:Biblioteca Municipal; Regidoria de Cultura
URL:https://ajllavaneres.cat/document.php?id=7457
END:VEVENT
END:VCALENDAR