BEGIN:VCALENDAR
VERSION:2.0
PRODID:-//Plone.org//NONSGML plone.app.event//EN
X-WR-TIMEZONE:Europe/Madrid
BEGIN:VEVENT
SUMMARY:L'hora del conte
DTSTART;TZID=Europe/Madrid;VALUE=DATE-TIME:20140315T120000
DTEND;TZID=Europe/Madrid;VALUE=DATE-TIME:20140315T130000
DTSTAMP;VALUE=DATE-TIME:20260422T133856Z
UID:3572669c380eee479967719173230dba
CREATED;VALUE=DATE-TIME:20140315T000000Z
CATEGORIES:Infantils
LOCATION:Sala infantil de la Biblioteca Municipal
ORGANIZER:Biblioteca Municipal; Regidoria de Cultura
DESCRIPTION:Contes a càrrec de la rondallaire Eva Gonzàlez
URL:https://ajllavaneres.cat/document.php?id=7458
END:VEVENT
END:VCALENDAR