BEGIN:VCALENDAR
VERSION:2.0
PRODID:-//Plone.org//NONSGML plone.app.event//EN
X-WR-TIMEZONE:Europe/Madrid
BEGIN:VEVENT
SUMMARY:L'hora del conte
DTSTART;TZID=Europe/Madrid;VALUE=DATE-TIME:20140405T120000
DTEND;TZID=Europe/Madrid;VALUE=DATE-TIME:20140405T130000
DTSTAMP;VALUE=DATE-TIME:20260422T131400Z
UID:1a117916cbf164296a7e5d11f82212e6
CREATED;VALUE=DATE-TIME:20140405T000000Z
CATEGORIES:Infantils
LOCATION:Sala infantil de la Biblioteca Municipal
ORGANIZER:Biblioteca Municipal; Regidoria de Cultura
DESCRIPTION:"Contes de llops", a càrrec de la rondallaire Gina Clotet
URL:https://ajllavaneres.cat/document.php?id=7459
END:VEVENT
END:VCALENDAR