BEGIN:VCALENDAR
VERSION:2.0
PRODID:-//Plone.org//NONSGML plone.app.event//EN
X-WR-TIMEZONE:Europe/Madrid
BEGIN:VEVENT
SUMMARY:Conferència a càrrec de Carme Forcadell
DTSTART;TZID=Europe/Madrid;VALUE=DATE-TIME:20140308T190000
DTEND;TZID=Europe/Madrid;VALUE=DATE-TIME:20140308T200000
DTSTAMP;VALUE=DATE-TIME:20260423T090452Z
UID:7cd4aacd4ac05d84b830956cc63463e7
CREATED;VALUE=DATE-TIME:20140308T000000Z
CATEGORIES:Conferència
LOCATION:El Casal de Llavaneres
ORGANIZER:ANC de Sant Andreu de Llavaneres
DESCRIPTION:En col·laboració amb les 3 Viles
URL:https://ajllavaneres.cat/document.php?id=7475
END:VEVENT
END:VCALENDAR