BEGIN:VCALENDAR
VERSION:2.0
PRODID:-//Plone.org//NONSGML plone.app.event//EN
X-WR-TIMEZONE:Europe/Madrid
BEGIN:VEVENT
SUMMARY:Campanya: "Signa un vot per la independència"
DTSTART;TZID=Europe/Madrid;VALUE=DATE-TIME:20140322T110000
DTEND;TZID=Europe/Madrid;VALUE=DATE-TIME:20140322T120000
DTSTAMP;VALUE=DATE-TIME:20260422T133611Z
UID:c9953ef91cec52f5385386ed25c1ae13
CREATED;VALUE=DATE-TIME:20140322T000000Z
LOCATION:Glorieta del passeig de la Mare de Déu de Montserrat
ORGANIZER:ANC de Sant Andreu de Llavaneres
COMMENT:Durada: Dissabte 22 i diumenge 23 (pendent de concretar l'horari)
URL:https://ajllavaneres.cat/document.php?id=7482
END:VEVENT
END:VCALENDAR