BEGIN:VCALENDAR
VERSION:2.0
PRODID:-//Plone.org//NONSGML plone.app.event//EN
X-WR-TIMEZONE:Europe/Madrid
BEGIN:VEVENT
SUMMARY:XI Concert per al Txad
DTSTART;TZID=Europe/Madrid;VALUE=DATE-TIME:20140316T180000
DTEND;TZID=Europe/Madrid;VALUE=DATE-TIME:20140316T190000
DTSTAMP;VALUE=DATE-TIME:20260422T131335Z
UID:2599d70412ea033910dd90c355e9c3df
CREATED;VALUE=DATE-TIME:20140316T000000Z
LOCATION:L'Auditori de Barcelona (C/ Lepant, 150)
COMMENT:Preu: De 20 a 40 &euro;. Les entrades es poden adquirir a les taquilles de l'Auditori i telemàticament aquí.
Durada: Misión y desarrollo para Goundi
DESCRIPTION:Jazz, swing and Soul, a benefici de l'hospital de Goundi
URL:https://ajllavaneres.cat/document.php?id=7490
END:VEVENT
END:VCALENDAR