BEGIN:VCALENDAR
VERSION:2.0
PRODID:-//Plone.org//NONSGML plone.app.event//EN
X-WR-TIMEZONE:Europe/Madrid
BEGIN:VEVENT
SUMMARY:Sopar del Dia de la Dona
DTSTART;TZID=Europe/Madrid;VALUE=DATE-TIME:20140307T210000
DTEND;TZID=Europe/Madrid;VALUE=DATE-TIME:20140307T220000
DTSTAMP;VALUE=DATE-TIME:20260422T131345Z
UID:15051a0575f6e51579ad42bf7aedddb2
CREATED;VALUE=DATE-TIME:20140307T000000Z
CATEGORIES:Festa
LOCATION:Restaurant Handicap 1
ORGANIZER:Associació La Dona per la Dona
COMMENT:Preu: 24 &euro;
DESCRIPTION:Celebració del Dia Internacional de la Dona Treballadora
URL:https://ajllavaneres.cat/document.php?id=7499
END:VEVENT
END:VCALENDAR