BEGIN:VCALENDAR
VERSION:2.0
PRODID:-//Plone.org//NONSGML plone.app.event//EN
X-WR-TIMEZONE:Europe/Madrid
BEGIN:VEVENT
SUMMARY:Repartiment d'obsequis
DTSTART;TZID=Europe/Madrid;VALUE=DATE-TIME:20140308T093000
DTEND;TZID=Europe/Madrid;VALUE=DATE-TIME:20140308T103000
DTSTAMP;VALUE=DATE-TIME:20260422T174513Z
UID:a5f3ce5595e86dbf6a1c0549d9f835b7
CREATED;VALUE=DATE-TIME:20140308T000000Z
CATEGORIES:Festa
LOCATION:Plaça de la Vila
ORGANIZER:Associació La Dona per la Dona
DESCRIPTION:Dia Internacional de la Dona treballadora
URL:https://ajllavaneres.cat/document.php?id=7500
END:VEVENT
END:VCALENDAR