BEGIN:VCALENDAR
VERSION:2.0
PRODID:-//Plone.org//NONSGML plone.app.event//EN
X-WR-TIMEZONE:Europe/Madrid
BEGIN:VEVENT
SUMMARY:Visita de l'Oficina Mòbil d'Atenció al Consumidor
DTSTART;TZID=Europe/Madrid;VALUE=DATE-TIME:20140228T103000
DTEND;TZID=Europe/Madrid;VALUE=DATE-TIME:20140228T113000
DTSTAMP;VALUE=DATE-TIME:20260423T022455Z
UID:54afccf42797c11b83a251c160fb4ca5
CREATED;VALUE=DATE-TIME:20140228T000000Z
LOCATION:Passeig de la Mare de Déu de Montserrat
ORGANIZER:Regidoria de Promoció Econòmica, Comerç i Turisme, i Diputació de Barcelona
COMMENT:Durada: Fins a les 13 hores
URL:https://ajllavaneres.cat/document.php?id=7512
END:VEVENT
END:VCALENDAR