BEGIN:VCALENDAR
VERSION:2.0
PRODID:-//Plone.org//NONSGML plone.app.event//EN
X-WR-TIMEZONE:Europe/Madrid
BEGIN:VEVENT
SUMMARY:Mercat del vi i el formatge
DTSTART;TZID=Europe/Madrid;VALUE=DATE-TIME:20140302T100000
DTEND;TZID=Europe/Madrid;VALUE=DATE-TIME:20140302T110000
DTSTAMP;VALUE=DATE-TIME:20260423T073339Z
UID:e372c176102301b4d789cfe591f79b2d
CREATED;VALUE=DATE-TIME:20140302T000000Z
LOCATION:Passeig de la Mare de Déu de Montserrat
ORGANIZER:Eixmedia
URL:https://ajllavaneres.cat/document.php?id=7514
END:VEVENT
END:VCALENDAR