BEGIN:VCALENDAR
VERSION:2.0
PRODID:-//Plone.org//NONSGML plone.app.event//EN
X-WR-TIMEZONE:Europe/Madrid
BEGIN:VEVENT
SUMMARY:Vine a conèixer el Lluçanès
DTSTART;TZID=Europe/Madrid;VALUE=DATE-TIME:20140306T070000
DTEND;TZID=Europe/Madrid;VALUE=DATE-TIME:20140306T080000
DTSTAMP;VALUE=DATE-TIME:20260422T230158Z
UID:e638707903003740673cdbe50c4b2393
CREATED;VALUE=DATE-TIME:20140306T000000Z
CATEGORIES:Esports
LOCATION:El Casal de Llavaneres (Sortida davant d'El Casal)
ORGANIZER:Secció Sènior d'El Casal de Llavaneres
URL:https://ajllavaneres.cat/document.php?id=7518
END:VEVENT
END:VCALENDAR