BEGIN:VCALENDAR
VERSION:2.0
PRODID:-//Plone.org//NONSGML plone.app.event//EN
X-WR-TIMEZONE:Europe/Madrid
BEGIN:VEVENT
SUMMARY:Travessa al massís de la Mola
DTSTART;TZID=Europe/Madrid;VALUE=DATE-TIME:20140313T073000
DTEND;TZID=Europe/Madrid;VALUE=DATE-TIME:20140313T083000
DTSTAMP;VALUE=DATE-TIME:20260422T160803Z
UID:2a2e72dbbb4c1a26bd4c1224dbfdab26
CREATED;VALUE=DATE-TIME:20140313T000000Z
CATEGORIES:Esports
LOCATION:El Casal de Llavaneres(Sortida davant d'El Casal)
ORGANIZER:Secció Sènior d'El Casal de Llavaneres
URL:https://ajllavaneres.cat/document.php?id=7519
END:VEVENT
END:VCALENDAR