BEGIN:VCALENDAR
VERSION:2.0
PRODID:-//Plone.org//NONSGML plone.app.event//EN
X-WR-TIMEZONE:Europe/Madrid
BEGIN:VEVENT
SUMMARY:Òpera a El Casal
DTSTART;TZID=Europe/Madrid;VALUE=DATE-TIME:20140322T180000
DTEND;TZID=Europe/Madrid;VALUE=DATE-TIME:20140322T190000
DTSTAMP;VALUE=DATE-TIME:20260422T133641Z
UID:3322feb46c8cce808ef721c2a932096a
CREATED;VALUE=DATE-TIME:20140322T000000Z
CATEGORIES:Música
LOCATION:El Casal de Llavaneres (Sala de lectura)
ORGANIZER:Secció de Cultura d'El Casal de Llavaneres
COMMENT:Preu: Col·laboració: 3 euros
DESCRIPTION:"Les noces de Fígaro" de W.A. Mozart
URL:https://ajllavaneres.cat/document.php?id=7520
END:VEVENT
END:VCALENDAR